BEGIN:VCALENDAR
VERSION:2.0
PRODID:-//Dave Murphy Band - ECPv6.15.12.2//NONSGML v1.0//EN
CALSCALE:GREGORIAN
METHOD:PUBLISH
X-ORIGINAL-URL:https://davemurphyband.yourdevelopmentserver.net
X-WR-CALDESC:Events for Dave Murphy Band
REFRESH-INTERVAL;VALUE=DURATION:PT1H
X-Robots-Tag:noindex
X-PUBLISHED-TTL:PT1H
BEGIN:VTIMEZONE
TZID:America/Toronto
BEGIN:DAYLIGHT
TZOFFSETFROM:-0500
TZOFFSETTO:-0400
TZNAME:EDT
DTSTART:20240310T070000
END:DAYLIGHT
BEGIN:STANDARD
TZOFFSETFROM:-0400
TZOFFSETTO:-0500
TZNAME:EST
DTSTART:20241103T060000
END:STANDARD
BEGIN:DAYLIGHT
TZOFFSETFROM:-0500
TZOFFSETTO:-0400
TZNAME:EDT
DTSTART:20250309T070000
END:DAYLIGHT
BEGIN:STANDARD
TZOFFSETFROM:-0400
TZOFFSETTO:-0500
TZNAME:EST
DTSTART:20251102T060000
END:STANDARD
BEGIN:DAYLIGHT
TZOFFSETFROM:-0500
TZOFFSETTO:-0400
TZNAME:EDT
DTSTART:20260308T070000
END:DAYLIGHT
BEGIN:STANDARD
TZOFFSETFROM:-0400
TZOFFSETTO:-0500
TZNAME:EST
DTSTART:20261101T060000
END:STANDARD
END:VTIMEZONE
BEGIN:VEVENT
DTSTART;TZID=America/Toronto:20251218T203000
DTEND;TZID=America/Toronto:20251218T203000
DTSTAMP:20260421T193016
CREATED:20231027T041646Z
LAST-MODIFIED:20251201T031444Z
UID:2376-1766089800-1766089800@davemurphyband.yourdevelopmentserver.net
SUMMARY:Roc'n Doc's in Port Credit
DESCRIPTION:We’ll be roc’n and roll’n at Roc’n Docs in Port Credit on a Thursday night!  Show starts at 8:30 pm\, so please come and join us from some great food\, drink dance and good times!
URL:https://davemurphyband.yourdevelopmentserver.net/event/rocn-docs-in-port-credit-2/
LOCATION:Roc’n Doc’s\, 105 Lakeshore Road East\, Mississauga\, ON\, L5G1E2\, Canada
CATEGORIES:Nightclub
END:VEVENT
BEGIN:VEVENT
DTSTART;TZID=America/Toronto:20251219T200000
DTEND;TZID=America/Toronto:20251219T200000
DTSTAMP:20260421T193016
CREATED:20240628T012744Z
LAST-MODIFIED:20251201T031101Z
UID:2592-1766174400-1766174400@davemurphyband.yourdevelopmentserver.net
SUMMARY:Harbour Street Fish Bar in Collingwood
DESCRIPTION:We’re very excited to be returning once again to the fabulous Harbour Street Fish Bar in Collingwood.  We’re looking forward to seeing everyone up north and hoping you can join us for a great party!
URL:https://davemurphyband.yourdevelopmentserver.net/event/harbour-street-fish-bar-in-collingwood-2/
LOCATION:Harbour Street Fish Bar\, 10 Keith Avenue\, Unit 403\, Collingwood\, ON\, L9Y 0W5\, Canada
CATEGORIES:Nightclub
END:VEVENT
BEGIN:VEVENT
DTSTART;TZID=America/Toronto:20251220T203000
DTEND;TZID=America/Toronto:20251220T203000
DTSTAMP:20260421T193016
CREATED:20231130T073940Z
LAST-MODIFIED:20251201T031016Z
UID:2417-1766262600-1766262600@davemurphyband.yourdevelopmentserver.net
SUMMARY:Mulligan's Pub in Mississauga
DESCRIPTION:Come enjoy the band at Mulligan’s Pub in Mississauga on a Saturday night!  Please call the club at (905) 855-7584 to reserve your table or simply show up that night – there’s always somewhere to enjoy a drink and a dance!  Mulligan’s is always a fun night out for great food\, great music and great times!
URL:https://davemurphyband.yourdevelopmentserver.net/event/mulligans-pub-in-mississauga-28/
LOCATION:Mulligan’s Pub\, 2458 Dundas St W\, Mississauga\, Ontario\, L5K 1R8\, Canada
CATEGORIES:Nightclub
END:VEVENT
BEGIN:VEVENT
DTSTART;TZID=America/Toronto:20251226T203000
DTEND;TZID=America/Toronto:20251226T203000
DTSTAMP:20260421T193016
CREATED:20251206T072005Z
LAST-MODIFIED:20251206T072005Z
UID:3023-1766781000-1766781000@davemurphyband.yourdevelopmentserver.net
SUMMARY:Mulligan's Pub in Mississauga
DESCRIPTION:Yes we’re playing at Mulligan’s on Boxing Day Friday December 26th Ho Ho Ho! ????????  Make this holiday special with some music and good times! ????????. We’re starting at 8:30 pm as usual.  Please call the club at (905) 855-7584 to reserve your table or simply show up that night – there’s always somewhere to enjoy a drink and a dance!
URL:https://davemurphyband.yourdevelopmentserver.net/event/mulligans-pub-in-mississauga-45/
LOCATION:Mulligan’s Pub\, 2458 Dundas St W\, Mississauga\, Ontario\, L5K 1R8\, Canada
CATEGORIES:Nightclub
END:VEVENT
BEGIN:VEVENT
DTSTART;TZID=America/Toronto:20251227T210000
DTEND;TZID=America/Toronto:20251227T210000
DTSTAMP:20260421T193016
CREATED:20221228T192952Z
LAST-MODIFIED:20251201T031151Z
UID:2046-1766869200-1766869200@davemurphyband.yourdevelopmentserver.net
SUMMARY:Drums N Flats in Toronto
DESCRIPTION:We’re super excited to be back at Drums N Flats in Toronto and it promises to be a really special night.  You can buy tickets for this event in advance or at the door on the night of the show.  Hope to see you there!
URL:https://davemurphyband.yourdevelopmentserver.net/event/drums-n-flats-in-toronto-2/
LOCATION:Drums N Flats\, 1980 Avenue Road\, Toronto\, ON\, M5M 4A4\, Canada
CATEGORIES:Nightclub
END:VEVENT
BEGIN:VEVENT
DTSTART;TZID=America/Toronto:20251231T203000
DTEND;TZID=America/Toronto:20251231T203000
DTSTAMP:20260421T193016
CREATED:20241208T005840Z
LAST-MODIFIED:20251201T032758Z
UID:2731-1767213000-1767213000@davemurphyband.yourdevelopmentserver.net
SUMMARY:Mulligan's Pub in Mississauga
DESCRIPTION:We’re super excited to be performing New Year’s Eve at our home base at Mulligan’s in Mississauga!  Tickets are $80 and include a buffet dinner and champagne at midnight.  Doors open at 7 pm.  Please call the club at (905) 855-7584 to purchase tickets and further details.  We hope to see you for a fabulous party to ring in the new year!  ????
URL:https://davemurphyband.yourdevelopmentserver.net/event/mulligans-pub-in-mississauga-37/
LOCATION:Mulligan’s Pub\, 2458 Dundas St W\, Mississauga\, Ontario\, L5K 1R8\, Canada
CATEGORIES:Nightclub
END:VEVENT
END:VCALENDAR